Workbook

Sheet 2a-1-BC 1300 
S1: Biểu 2a/1
B2: SỞ GIÁO DỤC VÀ ĐÀO TẠO | N2: CỘNG HOÀ XÃ HỘI CHỦ NGHĨA VIỆT NAM
B3: TRƯỜNG CAO ĐẲNG LÝ TỰ TRỌNG | N3: Độc lập - Tự do - Hạnh phúc
B4: THÀNH PHỐ HỒ CHÍ MINH
A6: BÁO CÁO NHU CẦU KINH PHÍ THỰC HIỆN NGHỊ ĐỊNH SỐ 72/2018/NĐ-CP NĂM 2018
A7: (Đính kèm Công văn số 4251/GDĐT-KHTC ngày 03 tháng 12 năm 2018 của Sở Giáo dục và Đào tạo)
F9: 1300 | G9: 1210 | Q9: Đơn vị: ngàn đồng
A10: STT | B10: ĐƠN VỊ | D10: BIÊN CHẾ ĐƯỢC CẤP CÓ THẨM QUYỀN GIAO HOẶC PHÊ DUYỆT NĂM 2018 | E10: TỔNG SỐ ĐỐI TƯỢNG HƯỞNG LƯƠNG CÓ MẶT ĐẾN 01/7/2018 | F10: QUỸ TIỀN LƯƠNG, PHỤ CẤP VÀ CÁC KHOẢN ĐÓNG GÓP THÁNG 7/2018 THEO NGHỊ ĐỊNH SỐ 47/2017/NĐ-CP
F11: TỔNG CỘNG | G11: MỨC LƯƠNG THEO NGẠCH BẬC, CHỨC VỤ | H11: TỔNG CÁC KHOẢN PHỤ CẤP (1) | I11: Trong đó | S11: CÁC KHOẢN ĐÓNG GÓP BHXH, BHYT, KPCĐ (không BHTN)
I12: PHỤ CẤP KHU VỰC | J12: PHỤ CẤP CHỨC VỤ | K12: PHỤ CẤP THÂM NIÊN VƯỢT KHUNG | L12: PHỤ CẤP ƯU ĐÃI NGÀNH | M12: PHỤ CẤP THU HÚT | N12: PHỤ CẤP CÔNG TÁC LÂU NĂM | O12: PHỤ CẤP CÔNG VỤ | P12: PHỤ CẤP CÔNG TÁC ĐẢNG | Q12: PHỤ CẤP THÂM NIÊN ĐỐI VỚI NHÀ GIÁO | R12: PHỤ CẤP KHÁC
A13: 1 | B13: 2 | D13: 3 | E13: 4 | F13: 5=6+7+19 | G13: 6 | H13: 7=8+9+…+18 | I13: 8 | J13: 9 | K13: 10 | L13: 11 | M13: 12 | N13: 13 | O13: 14 | P13: 15 | Q13: 16 | R13: 17 | S13: 18
B14: LOẠI 490-074 | D14: =SUM(D15:D15) -> 291 | E14: =SUM(E15:E15) -> 262 | F14: =SUM(F15:F15) -> 1877335.8 | G14: =SUM(G15:G15) -> 1178773.7 | H14: =SUM(H15:H15) -> 698562.09 | I14: =SUM(I15:I15) -> 0 | J14: =SUM(J15:J15) -> 27820 | K14: =SUM(K15:K15) -> 12347.79 | ... S14: =SUM(S15:S15) -> 287371.31
A15: 1 | B15: Trường Cao đẳng Lý Tự Trọng Tp Hồ Chí Minh | D15: 291 | E15: =(273+5)-16 -> 262 | F15: =G15+H15 -> 1877335.8 | G15: =(937.259+7.02-37.53)*F9 -> 1178773.7 | H15: =SUM(I15:S15) -> 698562.09 | I15: 0 | J15: =(21.4)*1300 -> 27820 | K15: =(10.8336-1.3353)*1300 -> 12347.79 | L15: =(191.2202+0.5673)*1300 -> 249323.75 | M15: 0 | N15: 0 | O15: 0 | P15: =2.1*1300 -> 2730 | Q15: =90.5148*1300 -> 117669.24 | R15: =(3.35-2.1-0.25)*1300 -> 1300 | S15: =(G15+J15+K15+Q15)*21.5% -> 287371.31
O17: Tp. Hồ Chí Minh, ngày 20 tháng 12 năm 2018
D18: Kế toán trưởng | P18: Hiệu trưởng
D24: Nguyễn Kính | P24: Phạm Hữu Lộc

Sheet 2a-2-BC 1390
S1: Biểu 2a/1
B2: SỞ GIÁO DỤC VÀ ĐÀO TẠO | N2: CỘNG HOÀ XÃ HỘI CHỦ NGHĨA VIỆT NAM
B3: TRƯỜNG CAO ĐẲNG LÝ TỰ TRỌNG | N3: Độc lập - Tự do - Hạnh phúc
B4: THÀNH PHỐ HỒ CHÍ MINH
A6: BÁO CÁO NHU CẦU KINH PHÍ THỰC HIỆN NGHỊ ĐỊNH SỐ 72/2018/NĐ-CP NĂM 2018
A7: (Đính kèm Công văn số 4251/GDĐT-KHTC ngày 03 tháng 12 năm 2018 của Sở Giáo dục và Đào tạo)
O9: Đơn vị: ngàn đồng
A10: STT | B10: ĐƠN VỊ | D10: QUỸ TIỀN LƯƠNG, PHỤ CẤP VÀ CÁC KHOẢN ĐÓNG GÓP THÁNG 7/2018 THEO NGHỊ ĐỊNH SỐ 72/2017/NĐ-CP | R10: CHÊNH LỆCH QUỸ LƯƠNG, PHỤ CẤP TĂNG THÊM 1 THÁNG | S10: NHU CẦU KINH PHÍ THỰC HIỆN NGHỊ ĐỊNH SÔ 72/2018/ND-CP
D11: TỔNG CỘNG | E11: MỨC LƯƠNG THEO NGẠCH BẬC, CHỨC VỤ | F11: TỔNG CÁC KHOẢN PHỤ CẤP (1) | G11: Trong đó | Q11: CÁC KHOẢN ĐÓNG GÓP BHXH, BHYT, KPCĐ (không BHTN)
G12: PHỤ CẤP KHU VỰC | H12: PHỤ CẤP CHỨC VỤ | I12: PHỤ CẤP THÂM NIÊN VƯỢT KHUNG | J12: PHỤ CẤP ƯU ĐÃI NGÀNH | K12: PHỤ CẤP THU HÚT | L12: PHỤ CẤP CÔNG TÁC LÂU NĂM | M12: PHỤ CẤP CÔNG VỤ | N12: PHỤ CẤP CÔNG TÁC ĐẢNG | O12: PHỤ CẤP THÂM NIÊN ĐỐI VỚI NHÀ GIÁO | P12: PHỤ CẤP KHÁC
A13: 1 | B13: 2 | D13: 19 | E13: 20 | F13: 21 | G13: 22 | H13: 23 | I13: 24 | J13: 25 | K13: 26 | L13: 27 | M13: 28 | N13: 29 | O13: 30 | P13: 31 | Q13: 32 | R13: 33=19-5 | S13: 34=33*6T
B14: LOẠI 490-074 | D14: =SUM(D15:D15) -> 2157365.4 | E14: =SUM(E15:E15) -> 1260381.1 | F14: =SUM(F15:F15) -> 896984.34 | G14: =SUM(G15:G15) -> 0 | H14: =SUM(H15:H15) -> 29746 | I14: =SUM(I15:I15) -> 13202.637 | J14: =SUM(J15:J15) -> 266584.62 | K14: =SUM(K15:K15) -> 0 | ... S14: =SUM(S15:S15) -> 1680178
A15: 1 | B15: Trường Cao đẳng Lý Tự Trọng Tp Hồ Chí Minh | D15: =E15+F15 -> 2157365.4 | E15: =(937.259+7.02-37.53)*1390 -> 1260381.1 | F15: =SUM(G15:Q15) -> 896984.34 | G15: 0 | H15: =(21.4)*1390 -> 29746 | I15: =(10.8336-1.3353)*1390 -> 13202.637 | J15: =(191.2202+0.5673)*1390 -> 266584.62 | K15: 0 | L15: 0 | M15: 0 | N15: =2.1*1390 -> 2919 | O15: =90.5148*1390 -> 125815.57 | P15: =(3.35-2.1-0.25)*1390 -> 1390 | Q15: =(E15+H15+I15+O15)*32% -> 457326.5 | R15: =D15-'2a-1-BC 1300 '!F15 -> 280029.66 | S15: =R15*6 -> 1680178
O17: Tp. Hồ Chí Minh, ngày 20 tháng 12 năm 2018
C18: Kế toán trưởng | D18: Kế toán trưởng | P18: Hiệu trưởng
C25: Nguyễn Kính | D25: Nguyễn Kính | P25: Phạm Hữu Lộc

Sheet 2c-bhtn
W1: Biểu 2đ
B2: SỞ GIÁO DỤC VÀ ĐÀO TẠO | Q2: CỘNG HOÀ XÃ HỘI CHỦ NGHĨA VIỆT NAM
B3: TRƯỜNG CAO ĐẲNG LÝ TỰ TRỌNG | Q3: Độc lập - Tự do - Hạnh phúc
B4: THÀNH PHỐ HỒ CHÍ MINH
A6: BÁO CÁO NHU CẦU KINH PHÍ THỰC HIỆN BẢO HIỂM THẤT NGHIỆP THEO NGHỊ ĐỊNH 28/2015/NĐ-CP NĂM 2017
A7: (Đính kèm Công văn số 4251/GDĐT-KHTC ngày 03 tháng 12 năm 2018 của Sở Giáo dục và Đào tạo)
W8: Đơn vị: Ngàn đồng
A9: STT | B9: Nội dung | D9: QT thu BHTN năm 2017 | F9: Biên chế được cấp có thẩm quyền, giao hoặc phê duyệt năm 2018 | G9: Tổng số đối tượng hưởng lương có mặt đến 01/7/2018 nộp BHTN | H9: Tổng QL, phụ cấp và BH thất nghiệp tháng 7/2018 theo NĐ 47/2017/NĐ-CP | O9: Tổng QL, phụ cấp và BH thất nghiệp tháng 7/2017 theo NĐ 72/2018/NĐ-CP | V9: Chênh lệch Bảo hiểm thất nghiệp tăng thêm 1 tháng | W9: Nhu cầu thực hiện BHTN năm 2017
D10: Tổng số đối tượng | E10: Thu của người lao động và người sử dụng lao động (2%) | H10: Tổng cộng | I10: Mức lương theo ngạch, bậc, chức vụ | J10: Tổng các khoản phụ cấp tính BHTN | K10: Trong đó | N10: 1% Bảo hiểm thất nghiệp | O10: Tổng cộng | P10: Mức lương theo ngạch, bậc, chức vụ | Q10: Tổng các khoản phụ cấp tính BHTN | R10: Trong đó | U10: 1% Bảo hiểm thất nghiệp
K11: Phụ cấp chức vụ | L11: Phụ cấp vượt khung | M11: P.cấp thâm niên nhà giáo | R11: Phụ cấp chức vụ | S11: Phụ cấp vượt khung | T11: P.cấp thâm niên nhà giáo
A12: 1 | B12: 2 | D12: 3 | E12: 4 | F12: 5 | G12: 6 | H12: 7=8+9+13 | I12: 8 | J12: 9 | K12: 10 | L12: 11 | M12: 12 | N12: 13=(8+9)*1% | O12: 14=15+16+…+20 | P12: 15 | Q12: 16 | R12: 17 | S12: 18 | T12: 19 | U12: 20=(15+16)*1|% | V12: 21=14-7 | W12: 22=21*6 tháng
B13: LOẠI 490-074 | F13: =SUM(F14:F14) -> 291 | G13: =SUM(G14:G14) -> 278 | H13: =SUM(H14:H14) -> 1401007 | I13: =SUM(I14:I14) -> 1227562.7 | J13: =SUM(J14:J14) -> 159572.92 | K13: =SUM(K14:K14) -> 27820 | L13: =SUM(L14:L14) -> 14083.68 | M13: =SUM(M14:M14) -> 117669.24 | ... W13: =SUM(W14:W14) -> 581956.74
A14: 1 | B14: Trường Cao đẳng Lý Tự Trọng Tp Hồ Chí Minh | D14: 278 | E14: 359913 | F14: 291 | G14: =(273+5) -> 278 | H14: =I14+J14+N14 -> 1401007 | I14: =(937.259+7.02)*1300 -> 1227562.7 | J14: =K14+L14+M14 -> 159572.92 | K14: =(21.4)*1300 -> 27820 | L14: =(10.8336)*1300 -> 14083.68 | M14: =90.5148*1300 -> 117669.24 | N14: =(I14+J14)*1% -> 13871.356 | O14: =P14+Q14+U14 -> 1497999.8 | P14: =(937.259+7.02)*1390 -> 1312547.8 | Q14: =R14+S14+T14 -> 170620.28 | R14: =(21.4)*1390 -> 29746 | S14: =(10.8336)*1390 -> 15058.704 | T14: =90.5148*1390 -> 125815.57 | U14: =(P14+Q14)*1% -> 14831.681 | V14: =O14-H14 -> 96992.791 | W14: =V14*6 -> 581956.74
S16: Tp. Hồ Chí Minh, ngày 20 tháng 12 năm 2018
C17: Kế toán trưởng | F17: Kế toán trưởng | T17: Hiệu trưởng
C23: Nguyễn Kính | F23: Nguyễn Kính | T23: Phạm Hữu Lộc

Sheet 2g
A2: SỞ GIÁO DỤC VÀ ĐÀO TẠO | E2: CỘNG HOÀ XÃ HỘI CHỦ NGHĨA VIỆT NAM
A3: TRƯỜNG CAO ĐẲNG LÝ TỰ TRỌNG | E3: Độc lập - Tự do - Hạnh phúc
A4: THÀNH PHỐ HỒ CHÍ MINH
A6: BÁO CÁO QUỸ TIỀN LƯƠNG, PHỤ CẤP ĐỐI VỚI LAO ĐỘNG HỢP ĐỒNG
A7: KHU VỰC HÀNH CHÍNH VÀ ĐƠN VỊ SỰ NGHIỆP
A8: (Đính kèm Công văn số 4251/GDĐT-KHTC ngày 03 tháng 12 năm 2018 của Sở Giáo dục và Đào tạo)
G10: Đơn vị tính: ngàn đồng
A11: STT | B11: ĐƠN VỊ | D11: TỔNG SỐ ĐỐI TƯỢNG HƯỞNG LƯƠNG CÓ MẶT ĐẾN 07/2018 | E11: QUỸ TIỀN LƯƠNG, PHỤ CẤP VÀ CÁC KHOẢN ĐÓNG GÓP THÁNG 7/2018 THEO NGHỊ ĐỊNH SỐ 72/2018/NĐ-CP (2)
E12: TỔNG CỘNG | F12: MỨC LƯƠNG THEO NGẠCH BẬC, CHỨC VỤ | G12: TỔNG CÁC KHOẢN PHỤ CẤP | H12: CÁC KHOẢN ĐÓNG GÓP BHXH, BHYT, KPCĐ
A14: 1 | B14: 2 | D14: 3 | E14: 4=5+6+7 | F14: 5 | G14: 6 | H14: 7
B15: LOẠI 490-074 | D15: =SUM(D16:D16) -> 16 | E15: =SUM(E16:E16) -> 54370.267 | F15: =SUM(F16:F16) -> 52166.7 | G15: =SUM(G16:G16) -> 2203.567 | H15: =SUM(H16:H16) -> 11689.607
A16: 1 | B16: Trường Cao đẳng Lý Tự Trọng Tp Hồ Chí Minh | D16: 16 | E16: =SUM(F16:G16) -> 54370.267 | F16: =37.53*1390 -> 52166.7 | G16: =(0.25+1.3353)*1390 -> 2203.567 | H16: =E16*21.5% -> 11689.607
B17: Ghi chú:
B18: (1) Bao gồm đối tượng theo hợp đồng Nghị định số 68/2000/NĐ-CP và hợp đồng lao động khác.
B19: (2) không tổng hợp vào biểu 2a
E21: Tp. Hồ Chí Minh, ngày 20 tháng 12 năm 2018
B22: Kế toán trưởng | E22: Hiệu trưởng
B26: Nguyễn Kính | E26: Phạm Hữu Lộc

Sheet 4a
D1: Biểu 4a
A2: SỞ GIÁO DỤC VÀ ĐÀO TẠO | C2: CỘNG HOÀ XÃ HỘI CHỦ NGHĨA VIỆT NAM
A3: TRƯỜNG CAO ĐẲNG LÝ TỰ TRỌNG | C3: Độc lập - Tự do - Hạnh phúc
A4: THÀNH PHỐ HỒ CHÍ MINH
A6: TỔNG HỢP NGUỒN VÀ NHU CẦU KINH PHÍ ĐỂ THỰC HIỆN CẢI CÁCH TIỀN LƯƠNG NĂM 2018
A7: (Đính kèm Công văn số 4251/GDĐT-KHTC ngày 03 tháng 12 năm 2018 của Sở Giáo dục và Đào tạo)
D8: ĐVT: ngàn đồng
A9: STT | B9: NỘI DUNG | D9: SỐ TIỀN
A10: 1 | B10: 2 | D10: 3
A11: A | B11: NGUỒN VÀ NHU CẦU TĂNG THÊM THỰC HIỆN MỨC LƯƠNG CƠ SỞ 1,39 TRIỆU ĐỒNG/THÁNG VÀ CÁC LOẠI PHỤ CẤP NĂM 2018 | D11: =D12 -> 12839763
A12: I | B12: NGUỒN THỰC HIỆN CẢI CÁCH TIỀN LƯƠNG NĂM 2018 | D12: =D16+D27 -> 12839763
A13: 1 | B13: 50% tăng thu NSĐP (không kể tăng thu tiền sử dụng đất, XSKT) thực hiện 2017 so dự toán Thủ tướng chính phủ giao năm 2017
A14: 2 | B14: 50% tăng thu NSĐP (không kể tăng thu tiền sử dụng đất, XSKT) dự toán 2018 so dự toán 2017 Thủ tướng chính phủ giao.
A15: 3 | B15: Số tiết kiệm 10% chi thường xuyên tăng thêm dự toán năm 2017 | D15: =3134071+270000 -> 3404071
A16: 4 | B16: Số tiết kiệm 10% chi thường xuyên tăng thêm dự toán tăng thêm năm 2018 | D16: 3369685
A17: 5 | B17: Số thu được huy động từ nguồn để lại đơn vị năm 2018:
A18: a | B18: Nguồn huy động từ các đơn vị tự đảm bảo chi thường xuyên (1):
B19: Học phí
B20: Viện phí
B21: Nguồn thu khác
A22: b | B22: Nguồn huy động từ các đơn vị chưa tự đảm bảo chi thường xuyên:
B23: Học phí | D23: 0
B24: Viện phí | D24: 0
B25: Nguồn thu khác | D25: 0
A26: 6 | B26: Nguồn tiết kiệm chi gắn với thực hiện các giải pháp sắp xếp tổ chức bộ máy, tinh gian biên chế, dối với hoạt động mới hoạt động đơn vị sự nghiệp công lập theo Nghị quyết 18,19 (nếu có): (ghi số âm)
A27: 7 | B27: Nguồn thực hiện cải cách tiền lương năm 2017 chưa sử dụng hết chuyển sang 2018 | D27: 9470078
A28: B | B28: TỔNG NHU CẦU | D28: =D29+D31+D39 -> 7600495.4
A29: I | B29: Tổng nhu cầu kinh phí tăng thêm đề thực hiện cải cách tiền lương: theo nghị định số 47/2017/NĐ-CP và Nghị định số 76/2017/NĐ-CP tính đủ 12 tháng (4) | D29: =((906.749*1300-906.749*1210)*12)+((906.749*1300-906.749*1210)*21.5%*12)+'2c-bhtn'!W14*2 -> 2353749.5
A30: II | B30: Tổng nhu cầu kinh phí tăng thêm đề thực hiện cải cách tiền lương: theo nghị định số 72/2018/NĐ-CP và Nghị định số 88/2018/NĐ-CP. | D30: =D31+D33+D35+D36+D37+D38 -> 5246745.9
A31: 1 | B31: Quỹ tiền lương, phụ cấp tăng thêm đối với CBCC khu vực HCSN | D31: =('2a-2-BC 1390'!S15*2)+('2a-2-BC 1390'!S15*21.5%*2)+('2c-bhtn'!W14*2) -> 5246745.9
B32: Trong đó: nhu cầu tăng thêm đối với đơn vị tự đảm bảo (5) | D32: 0
A33: 2 | B33: Quỹ lương, phụ cấp tăng thêm đối với cán bộ chuyên trách và công chức cấp xã.
A34: 3 | B34: Hoạt động phí tăng thêm đối với đại biểu hội đồng nhân dân các cấp.
A35: 4 | B35: Quỹ trợ cấp tăng thêm đối với cán bộ xã nghi việc theo nghi định 76/2017/NĐ-CP
A36: 5 | B36: Kinh phí tăng thêm đề thực hiện chế độ đối với cán bộ không chuyên trách cấp xã, thôn, tổ dân phố.
A37: 6 | B37: Kinh phí tăng thêm đề thực hiện phụ cấp trách nhiệm đối với ủy viên các cấp theo QĐ số 169/QĐ-TW ngày 24/6/2008
A38: 7 | B38: Kinh phí tăng thêm thực hiện chế độ bồi dưỡng phục vụ hoạt động cấp ủy thuộc cấp tỉnh theo Quy định 09-QĐ/VVPTW ngày 22/9/2017
A39: III | B39: Nhu cầu thực hiện một số loại phụ cấp, trợ cấp theo quy định
A40: 1 | B40: Kinh phí tăng giảm do điều chỉnh địa bàn vùng KTXH ĐBKK năm 2017 theo Quyết định 131/QĐ-TTg và Quyết định 582/QĐ-TTf của Thủ tướng chính phủ (6)
A41: 2 | B41: Nhu cầu kinh phí thực hiện chính sách tinh giảm biên chế năm 2018 theo QĐ 108/2014/NĐ-CP ngày 20/11/2014 ( Đối tượng đã được Bộ Nội vụ thẩm định )
...

Sheet 2c-bhtn (2)
W1: Biểu 2đ
B2: ỦY BAN NHÂN DÂN | Q2: CỘNG HOÀ XÃ HỘI CHỦ NGHĨA VIỆT NAM
B3: THÀNH PHỐ HỒ CHÍ MINH | Q3: Độc lập - Tự do - Hạnh phúc
B4: SỞ GIÁO DỤC VÀ ĐÀO TẠO
A6: BÁO CÁO NHU CẦU KINH PHÍ THỰC HIỆN BẢO HIỂM THẤT NGHIỆP THEO NGHỊ ĐỊNH 28/2015/NĐ-CP NĂM 2017
A7: (Đính kèm Công văn số /GDĐT-KHTC ngày tháng năm 2016 của Sở Giáo dục và Đào tạo)
W8: Đơn vị: Ngàn đồng
A9: STT | B9: Nội dung | D9: QT thu BHTN năm 2017 | F9: Biên chế được cấp có thẩm quyền, giao hoặc phê duyệt năm 2018 | G9: Tổng số đối tượng hưởng lương có mặt đến 01/7/2018 nộp BHTN | H9: Tổng QL, phụ cấp và BH thất nghiệp tháng 7/2018 theo NĐ 47/2017/NĐ-CP | O9: Tổng QL, phụ cấp và BH thất nghiệp tháng 7/2017 theo NĐ 72/2018/NĐ-CP | V9: Chênh lệch Bảo hiểm thất nghiệp tăng thêm 1 tháng | W9: Nhu cầu thực hiện BHTN năm 2017
D10: Tổng số đối tượng | E10: Thu của người lao động và người sử dụng lao động (2%) | H10: Tổng cộng | I10: Mức lương theo ngạch, bậc, chức vụ | J10: Tổng các khoản phụ cấp tính BHTN | K10: Trong đó | N10: 1% Bảo hiểm thất nghiệp | O10: Tổng cộng | P10: Mức lương theo ngạch, bậc, chức vụ | Q10: Tổng các khoản phụ cấp tính BHTN | R10: Trong đó | U10: 1% Bảo hiểm thất nghiệp
K11: Phụ cấp chức vụ | L11: Phụ cấp vượt khung | M11: P.cấp thâm niên nhà giáo | R11: Phụ cấp chức vụ | S11: Phụ cấp vượt khung | T11: P.cấp thâm niên nhà giáo
A12: 1 | B12: 2 | D12: 3 | E12: 4 | F12: 5 | G12: 6 | H12: 7=8+9+13 | I12: 8 | J12: 9 | K12: 10 | L12: 11 | M12: 12 | N12: 13=(8+9)*1% | O12: 14=15+16+…+20 | P12: 15 | Q12: 16 | R12: 17 | S12: 18 | T12: 19 | U12: 20=(15+16)*1|% | V12: 21=14-7 | W12: 22=21*6 tháng
B13: LOẠI 490-074 | F13: =SUM(F14:F19) -> 291 | G13: =SUM(G14:G19) -> 278 | H13: =SUM(H14:H19) -> 1313418.8 | I13: =SUM(I14:I19) -> 1142577.6 | J13: =SUM(J14:J19) -> 157837.03 | K13: =SUM(K14:K19) -> 27820 | L13: =SUM(L14:L19) -> 12347.79 | M13: =SUM(M14:M19) -> 117669.24 | ... W13: =SUM(W14:W19) -> 1096238.2
A14: 5 | B14: Trường Cao đẳng Lý Tự Trọng Tp Hồ Chí Minh | F14: 291 | G14: =(273+5) -> 278 | H14: =I14+J14+N14 -> 1313418.8 | I14: =(937.259+7.02)*1210 -> 1142577.6 | J14: ='2a-1-BC 1300 '!J15+'2a-1-BC 1300 '!K15+'2a-1-BC 1300 '!Q15 -> 157837.03 | K14: ='2a-1-BC 1300 '!J15 -> 27820 | L14: ='2a-1-BC 1300 '!K15 -> 12347.79 | M14: ='2a-1-BC 1300 '!Q15 -> 117669.24 | N14: =(I14+J14)*1% -> 13004.146 | O14: =P14+Q14+U14 -> 1496125.1 | P14: =(937.259+7.02)*1390 -> 1312547.8 | Q14: ='2a-2-BC 1390'!H15+'2a-2-BC 1390'!I15+'2a-2-BC 1390'!O15 -> 168764.21 | R14: ='2a-2-BC 1390'!H15 -> 29746 | S14: ='2a-2-BC 1390'!I15 -> 13202.637 | T14: ='2a-2-BC 1390'!O15 -> 125815.57 | U14: =(P14+Q14)*1% -> 14813.12 | V14: =O14-H14 -> 182706.37 | W14: =V14*6 -> 1096238.2
A15: 6 | B15: Trường THPT
A16: 7 | B16: Trường THPT
A17: 8 | B17: Trường THPT
A18: 9 | B18: Trường THPT
A19: 10 | B19: Trường THPT

Sheet 2c-bhtn (3)
W1: Biểu 2đ
B2: ỦY BAN NHÂN DÂN | Q2: CỘNG HOÀ XÃ HỘI CHỦ NGHĨA VIỆT NAM
B3: THÀNH PHỐ HỒ CHÍ MINH | Q3: Độc lập - Tự do - Hạnh phúc
B4: SỞ GIÁO DỤC VÀ ĐÀO TẠO
A6: BÁO CÁO NHU CẦU KINH PHÍ THỰC HIỆN BẢO HIỂM THẤT NGHIỆP THEO NGHỊ ĐỊNH 28/2015/NĐ-CP NĂM 2017
A7: (Đính kèm Công văn số /GDĐT-KHTC ngày tháng năm 2016 của Sở Giáo dục và Đào tạo)
W8: Đơn vị: Ngàn đồng
A9: STT | B9: Nội dung | D9: QT thu BHTN năm 2017 | F9: Biên chế được cấp có thẩm quyền, giao hoặc phê duyệt năm 2018 | G9: Tổng số đối tượng hưởng lương có mặt đến 01/7/2018 nộp BHTN | H9: Tổng QL, phụ cấp và BH thất nghiệp tháng 7/2018 theo NĐ 47/2017/NĐ-CP | O9: Tổng QL, phụ cấp và BH thất nghiệp tháng 7/2017 theo NĐ 72/2018/NĐ-CP | V9: Chênh lệch Bảo hiểm thất nghiệp tăng thêm 1 tháng | W9: Nhu cầu thực hiện BHTN năm 2017
D10: Tổng số đối tượng | E10: Thu của người lao động và người sử dụng lao động (2%) | H10: Tổng cộng | I10: Mức lương theo ngạch, bậc, chức vụ | J10: Tổng các khoản phụ cấp tính BHTN | K10: Trong đó | N10: 1% Bảo hiểm thất nghiệp | O10: Tổng cộng | P10: Mức lương theo ngạch, bậc, chức vụ | Q10: Tổng các khoản phụ cấp tính BHTN | R10: Trong đó | U10: 1% Bảo hiểm thất nghiệp
K11: Phụ cấp chức vụ | L11: Phụ cấp vượt khung | M11: P.cấp thâm niên nhà giáo | R11: Phụ cấp chức vụ | S11: Phụ cấp vượt khung | T11: P.cấp thâm niên nhà giáo
A12: 1 | B12: 2 | D12: 3 | E12: 4 | F12: 5 | G12: 6 | H12: 7=8+9+13 | I12: 8 | J12: 9 | K12: 10 | L12: 11 | M12: 12 | N12: 13=(8+9)*1% | O12: 14=15+16+…+20 | P12: 15 | Q12: 16 | R12: 17 | S12: 18 | T12: 19 | U12: 20=(15+16)*1|% | V12: 21=14-7 | W12: 22=21*6 tháng
B13: LOẠI 490-074 | F13: =SUM(F14:F19) -> 291 | G13: =SUM(G14:G19) -> 278 | H13: =SUM(H14:H19) -> 1349976.8 | I13: =SUM(I14:I19) -> 1178773.7 | J13: =SUM(J14:J19) -> 157837.03 | K13: =SUM(K14:K19) -> 27820 | L13: =SUM(L14:L19) -> 12347.79 | M13: =SUM(M14:M19) -> 117669.24 | ... W13: =SUM(W14:W19) -> 560759.61
A14: 5 | B14: Trường Cao đẳng Lý Tự Trọng Tp Hồ Chí Minh | F14: 291 | G14: =(273+5) -> 278 | H14: =I14+J14+N14 -> 1349976.8 | I14: ='2a-1-BC 1300 '!G15 -> 1178773.7 | J14: ='2a-1-BC 1300 '!J15+'2a-1-BC 1300 '!K15+'2a-1-BC 1300 '!Q15 -> 157837.03 | K14: ='2a-1-BC 1300 '!J15 -> 27820 | L14: ='2a-1-BC 1300 '!K15 -> 12347.79 | M14: ='2a-1-BC 1300 '!Q15 -> 117669.24 | N14: =(I14+J14)*1% -> 13366.107 | O14: =P14+Q14+U14 -> 1443436.8 | P14: ='2a-2-BC 1390'!E15 -> 1260381.1 | Q14: ='2a-2-BC 1390'!H15+'2a-2-BC 1390'!I15+'2a-2-BC 1390'!O15 -> 168764.21 | R14: ='2a-2-BC 1390'!H15 -> 29746 | S14: ='2a-2-BC 1390'!I15 -> 13202.637 | T14: ='2a-2-BC 1390'!O15 -> 125815.57 | U14: =(P14+Q14)*1% -> 14291.453 | V14: =O14-H14 -> 93459.935 | W14: =V14*6 -> 560759.61
A15: 6 | B15: Trường THPT
A16: 7 | B16: Trường THPT
A17: 8 | B17: Trường THPT
A18: 9 | B18: Trường THPT
A19: 10 | B19: Trường THPT
